BEGIN:VCALENDAR
VERSION:2.0
PRODID:-//eventon.com NONSGML v1.0//EN
BEGIN:VEVENT
UID:69ea80291e404
DTSTAMP:20260423T162513
DTSTART:20221029T140000Z
DTEND:20221029T220000Z
LOCATION:
SUMMARY:Halloween Vendor Fair
DESCRIPTION: 
END:VEVENT
END:VCALENDAR