BEGIN:VCALENDAR
VERSION:2.0
PRODID:-//eventon.com NONSGML v1.0//EN
BEGIN:VEVENT
UID:69e60cf4595a8
DTSTAMP:20260420T072436
DTSTART:20221126T140000Z
DTEND:20221126T220000Z
LOCATION:The Velvet Mill 22 Bayview Ave
SUMMARY:Velvet Christmas at the Mill
DESCRIPTION: &nbsp; Come visit Velvet Christmas at the Mill November 26-27th\,  10am-6pm for free pictures with Santa (by Jen Read Photography)\,  face painting (by WOW FaceArt Facepainting) and raffle baskets! It will be the perfect time to start your holiday shopping with local vendors! If you’re interested in being a vendor\, [..]
END:VEVENT
END:VCALENDAR