BEGIN:VCALENDAR
VERSION:2.0
PRODID:-//eventon.com NONSGML v1.0//EN
BEGIN:VEVENT
UID:69e9c7c6058d5
DTSTAMP:20260423T031830
DTSTART:20230721T220000Z
DTEND:20230722T000000Z
LOCATION:Rum Tropic Distillery 22 Bayview Ave Studio 47
SUMMARY:Group Reading with Tracy Ann\,  Psychic Medium @ Rum Tropic Distillery
DESCRIPTION: Join Tracy Ann\,  Psychic Medium for an evening of readings at Rum Tropic Distillery at the Velvet Mill\,  22 Bayview Ave.\,  Unit 47\,  Stonington\,  CT on Thursday\,  July 21\,  2023 from 6:00 PM to 8:00 PM. Tracy is a 4th-generation psychic medium who can connect to your loved ones in[..]
END:VEVENT
END:VCALENDAR