BEGIN:VCALENDAR
VERSION:2.0
PRODID:-//eventon.com NONSGML v1.0//EN
BEGIN:VEVENT
UID:69e60cf4939d9
DTSTAMP:20260420T072436
DTSTART:20240628T213000Z
DTEND:20240628T230000Z
LOCATION:Shuttle Press & Bindery 22 Bayview Ave  Studio #77
SUMMARY:Hanging List Book : Japanese Stab Binding Basics at Shuttle Press & Bindery
DESCRIPTION: This beginner-friendly class will introduce you to a historic binding method from Japan! Try your hand at a beginner-friendly Japanese style binding! Students will learn a brief history of the Japanese Stab Binding\,  and will receive guided instruction on how to create their own hanging list book. Select your cover[..]
END:VEVENT
END:VCALENDAR