BEGIN:VCALENDAR
VERSION:2.0
PRODID:-//eventon.com NONSGML v1.0//EN
BEGIN:VEVENT
UID:69ebc61556f9c
DTSTAMP:20260424T153549
DTSTART:20240927T213000Z
DTEND:20240927T230000Z
LOCATION:Shuttle Press & Bindery 22 Bayview Ave  Studio #77
SUMMARY:Bookbinding Basics : Pamphlet Stitch at Shuttle Press & Bindery
DESCRIPTION: This beginner friendly class will introduce you to one of the simplest sewn bindings - the pamphlet stitch! Learn the basics of bookbinding while you sew your own pamphlet stitched books! Students will learn a brief history of bookbinding\,  and will receive guided instruction on how to create their own[..]
END:VEVENT
END:VCALENDAR