BEGIN:VCALENDAR
VERSION:2.0
PRODID:-//eventon.com NONSGML v1.0//EN
BEGIN:VEVENT
UID:69ebc61a40fd8
DTSTAMP:20260424T153554
DTSTART:20191019T140000Z
DTEND:20191019T170000Z
LOCATION:The Velvet Mill 22 Bayview Ave
SUMMARY:North Bays Open House
DESCRIPTION: Join Lohibition and other new shops Authentic One\,  The Closet Room\,  and Handcrafted Homestead Furniture for a little open house in The North Bays of The Velvet Mill. We now have a newly constructed pergola along with The North Bays Lounge for you to sit and enjoy a coffee from[..]
END:VEVENT
END:VCALENDAR